BEGIN:VCALENDAR
VERSION:2.0
PRODID:-//eventon.com NONSGML v1.0//EN
CALSCALE:GREGORIAN
METHOD:PUBLISH
BEGIN:VEVENT
UID:69e784df04556
DTSTAMP:20260421T140831Z
DTSTART:20260307T110000Z
DTEND:20260307T225900Z
LOCATION:Librería Letras Corsarias C/Rector Lucena 1 y Plaza de San Boal
SUMMARY:Cuentacuentos en Letras Corsarias
DESCRIPTION:«Estar flop». Cuentacuentos con Natalia Carrero. Recomendado 
 a partir de 5 años. Para asistir hay que reservar plaza en el 923 21 67 04
 \nhttps://www.menudaessalamanca.com/eventos/cuentacuentos-en-letras-corsari
 as-9/
URL:https://www.menudaessalamanca.com/eventos/cuentacuentos-en-letras-corsarias-9/
END:VEVENT
END:VCALENDAR