BEGIN:VCALENDAR
VERSION:2.0
PRODID:-//eventon.com NONSGML v1.0//EN
CALSCALE:GREGORIAN
METHOD:PUBLISH
BEGIN:VEVENT
UID:69e7849ee429a
DTSTAMP:20260421T140726Z
DTSTART:20260307T110000Z
DTEND:20260307T130000Z
LOCATION:Centro Arte Contemporáneo DA2 Avenida de la Aldehuela\,  37
SUMMARY:Paisaje recuperado
DESCRIPTION:El Ayuntamiento de Salamanca organiza cuatro talleres gratuitos
  en el DA2\,  titulados ‘Paisaje recuperado’\,  que serán impartidos p
 or Marcos Tapia.  Es una jornada creativa centrada en la conciencia ecoló
 gica\,  inspirada en la obra de Gabriela Bettini\,  que explora la memoria 
 del entorno y la capacidad de resiliencia de la naturaleza.[..]\nhttps://ww
 w.menudaessalamanca.com/eventos/paisaje-recuperado/
URL:https://www.menudaessalamanca.com/eventos/paisaje-recuperado/
END:VEVENT
END:VCALENDAR