BEGIN:VCALENDAR
VERSION:2.0
PRODID:-//eventon.com NONSGML v1.0//EN
CALSCALE:GREGORIAN
METHOD:PUBLISH
BEGIN:VEVENT
UID:69e7847ad2bef
DTSTAMP:20260421T140650Z
DTSTART:20260307T173000Z
DTEND:20260307T225900Z
LOCATION:Biblioteca Torrente Ballester Paseo de los Olivos\,  10-22
SUMMARY:La Selva
DESCRIPTION:La Cía Teloncillo Teatrollega a Salamanca con La Selva Como en
  el sombrero del Principito\,  levantemos su ala y descubramos juntos todos
  los animales que podamos imaginar. Viajemos juntos a África\,  Asia o Am
 érica\,  buscando una cebra que sea negra con las rayas blancas o blanca 
 con las rayas negras\, [..]\nhttps://www.menudaessalamanca.com/eventos/la-s
 elva/
URL:https://www.menudaessalamanca.com/eventos/la-selva/
END:VEVENT
END:VCALENDAR