BEGIN:VCALENDAR
VERSION:2.0
PRODID:-//eventon.com NONSGML v1.0//EN
CALSCALE:GREGORIAN
METHOD:PUBLISH
BEGIN:VEVENT
UID:69e785aab5ba3
DTSTAMP:20260421T141154Z
DTSTART:20260308T170000Z
DTEND:20260308T225900Z
LOCATION:Teatro Liceo
SUMMARY:Único
DESCRIPTION:Happening presenta Único. Un espectáculo vibrante y lleno de 
 color que marca el 25 aniversario de carrera musical en activo de una banda
  que se ha convertido\,  por méritos propios\,  en un referente nacional e
 n cuanto a la música para público familiar se refiere. A través de un sh
 ow original[..]\nhttps://www.menudaessalamanca.com/eventos/unico/
URL:https://www.menudaessalamanca.com/eventos/unico/
END:VEVENT
END:VCALENDAR