BEGIN:VCALENDAR
VERSION:2.0
PRODID:-//eventon.com NONSGML v1.0//EN
CALSCALE:GREGORIAN
METHOD:PUBLISH
BEGIN:VEVENT
UID:69e8f2ae7274a
DTSTAMP:20260422T160918Z
DTSTART:20240210T173000Z
DTEND:20240210T225900Z
LOCATION:Biblioteca Torrente Ballester Paseo de los Olivos\,  10-22
SUMMARY:La bruja rechinadientes
DESCRIPTION:Katua &amp; Galen Teatro llega con la historia de tres valiente
 s hermanos que desafían las advertencias de su madre y se adentran en un 
 bosque oscuro donde descubren la casa de una bruja. Allí cada uno de ello
 s tendrá que enfrentarse a sus miedos para poder escapar. La escenografi
 a y[..]\nhttps://www.menudaessalamanca.com/eventos/la-bruja-rechinadientes
 -2/
URL:https://www.menudaessalamanca.com/eventos/la-bruja-rechinadientes-2/
END:VEVENT
END:VCALENDAR