BEGIN:VCALENDAR
VERSION:2.0
PRODID:-//eventon.com NONSGML v1.0//EN
CALSCALE:GREGORIAN
METHOD:PUBLISH
BEGIN:VEVENT
UID:69eba6ed69dfc
DTSTAMP:20260424T172253Z
DTSTART:20230423T223000Z
DTEND:20230424T105000Z
LOCATION:Plaza Donantes de Sangre Doñinos Plaza Donantes de Sangre Doñinos
SUMMARY:Concentración vehículos clásicos
DESCRIPTION:En las fiestas de San Marcos tendrá lugar una concentración d
 e vehículos clásicos. Lleva tu coche de Scalextric clásico para particip
 ar en las carreras. Este es el programa de actividades: 11.00h: Tendrá lug
 ar la apertura de inscripciones. 12.30h: Tandas entrenamientos Slot Clásic
 os. 13.00h: Carreras Slot Clásicos 14.00h: Comida 16.00: Entrega[..]\nhttp
 s://www.menudaessalamanca.com/eventos/concentracion-vehiculos-clasicos/
URL:https://www.menudaessalamanca.com/eventos/concentracion-vehiculos-clasicos/
END:VEVENT
END:VCALENDAR