BEGIN:VCALENDAR
VERSION:2.0
PRODID:-//eventon.com NONSGML v1.0//EN
CALSCALE:GREGORIAN
METHOD:PUBLISH
BEGIN:VEVENT
UID:69e74dba27b28
DTSTAMP:20260421T101314Z
DTSTART:20220709T220000Z
DTEND:20220710T105000Z
LOCATION:Pistas de Vistahermosa C/ Ramon de Mesonero Romanos
SUMMARY:Taller de yoga para niños
DESCRIPTION:El barrio salmantino de Vistahemosa ha preparado unas fiestas p
 or todo lo alto con muchas actividades para que disfruten los peques de la 
 casa o disfrutar en familia. Una de estas actividades es un taller de yoga 
 para niños y niñas a partí de 3 años que pueden ir acompañados[..]\nht
 tps://www.menudaessalamanca.com/eventos/taller-de-yoga-para-ninos/
URL:https://www.menudaessalamanca.com/eventos/taller-de-yoga-para-ninos/
END:VEVENT
END:VCALENDAR