BEGIN:VCALENDAR
VERSION:2.0
PRODID:-//eventon.com NONSGML v1.0//EN
CALSCALE:GREGORIAN
METHOD:PUBLISH
BEGIN:VEVENT
UID:69e73c8c74090
DTSTAMP:20260421T085956Z
DTSTART:20210419T050000Z
DTEND:20210419T105000Z
LOCATION:Auditorio de León Av. de los Reyes Leoneses\,  4\,  24008 León
SUMMARY:Alas
DESCRIPTION:Cuando Jaime y Simón encuentran a Ángel no les importa que se
 a diferente\,  así que entre ellos nace una amistad tan profunda que les h
 ará descubrir un mundo nuevo y desconocido. Gracias a eso podrán lograr f
 inalmente ser los únicos dueños de su destino. En nuestras manos está el
  poder[..]\nhttps://www.menudaessalamanca.com/eventos/alas/
URL:https://www.menudaessalamanca.com/eventos/alas/
END:VEVENT
END:VCALENDAR