BEGIN:VCALENDAR
VERSION:2.0
PRODID:-//eventon.com NONSGML v1.0//EN
CALSCALE:GREGORIAN
METHOD:PUBLISH
BEGIN:VEVENT
UID:69e740a57e4dc
DTSTAMP:20260421T091725Z
DTSTART:20191121T183000Z
DTEND:20191121T225000Z
LOCATION:Salón de actos del Ayuntamiento de León C/ Alfonso V
SUMMARY:Charla de César Bona
DESCRIPTION:ABANCA y Afundación desarrollarán en la ciudad de León su pr
 ograma Educación siglo XXI\,  un ciclo de conferencias que tiene como obje
 tivo crear un marco para la reflexión sobre la labor y los retos a los que
  se enfrentan familias\,  profesores y estudiantes en la educación y la do
 cencia actuales.[..]\nhttps://www.menudaessalamanca.com/eventos/charla-de-c
 esar-bona/
URL:https://www.menudaessalamanca.com/eventos/charla-de-cesar-bona/
END:VEVENT
END:VCALENDAR